{"text_format":"2","workbook":"xlsx","n_sheets":14,"sheets":["Instructions and Summary","a. Personnel","b. Fringe","c. Travel","d. Equipment","e. Supplies","f. Contractual","g. Construction","h. Other","i. Indirect","j. Cost Share","SF-424A","k. Invoice Summary","SF424A"],"not_rendered":{"charts":0,"images":2,"macros":0,"external_links":0,"defined_names":102,"comments":0,"pivot_tables":0},"unopened":[],"bounds":{"document_bytes":16777216,"sheet_cells":100000,"run_cost":"one","rows_first":2000,"rows_last":500,"rows_between":2000,"halvings":0,"cell_chars":16384,"cell_head_chars":4096},"cells_cut":0,"cells_raw":0,"read":"whole","date_system":"1900"}

{"sheet":"Instructions and Summary","index":0,"n_rows":34,"n_cols":7,"rows_kept":34,"cut":false,"hidden":false,"merged":[[0,2,1,5],[2,1,2,2],[2,3,2,5],[8,0,8,6],[33,0,34,6],[3,1,3,2],[3,3,3,5],[5,0,5,6],[6,0,6,6],[10,0,14,0]]}
["EERE 159 Detailed Budget Justification ",null,"Instructions and Summary",null,null,null,"OMB Number: 1910-5162"]
[{"$nulls":6},"Expiration Date: 01/31/2015"]
["Award Number:",null,null,"Date of Submission:"]
["Award Recipient:",null,null,"Form submitted by: "]
[{"$nulls":6},"(May be award recipient or sub-recipient)"]
["Please read the instructions on each worksheet tab before starting. If you have any questions, please ask your EERE contact!  "]
["1. If using this form for award application, negotiation, or budget revision, fill out the blank white cells in workbook tabs a. through j. with total project costs. If using this form for invoice submission, fill out tabs a. through j. with total costs for just the proposed invoice and fill out tab k. per the instructions on that tab.\n2. Blue colored cells contain instructions, headers, or summary calculations and should not be modified. Only blank white cells should be populated.   \n3. Enter detailed support for the project costs identified for each Category line item within each worksheet tab to autopopulate the summary tab.  \n4. The total budget presented on tabs a. through i. must include both Federal (DOE) and Non-Federal (cost share) portions.\n5. All costs incurred by the preparer's sub-recipients, vendors, and Federal Research and Development Centers (FFRDCs), should be entered only in section f. Contractual. All other sections are for the costs of the preparer only.\n6. Ensure all entered costs are allowable, allocable, and reasonable in accordance with the administrative requirements prescribed in 10 CFR 600, and the applicable cost principles for each entity type: State/Local Governments: 2 CFR 225, Non-Profit Org.: 2 CFR 230, Educational Institutions: 2 CFR 220, For-Profit Org. FAR 31.2.  \n7. Add rows as needed throughout tabs a. through j. If rows are added, formulas/calculations may need to be adjusted by the preparer. Do not add rows to the Instructions and Summary tab. If your project contains more than three budget periods, consult your EERE contact before adding additional budget period rows or columns. \n\nBURDEN DISCLOSURE STATEMENT\nPublic reporting burden for this collection of information is estimated to average 3 hours per response, including the time for reviewing instructions, searching existing data sources, gathering and maintaining the data needed, and completing and reviewing the collection of information. Send comments regarding this burden estimate or any other aspect of this collection of information, including suggestions for reducing this burden, to Office of Information Resources Management Policy, Plans, and Oversight, AD-241-2 - GTN, Paperwork Reduction Project (1910-5162), U.S. Department of Energy 1000 Independence Avenue, S.W., Washington, DC 20585; and to the Office of Management and Budget, Paperwork Reduction Project (1910-5162), Washington, DC 20503."]
[]
["SUMMARY OF BUDGET CATEGORY COSTS PROPOSED\nThe values in this summary table are from entries made in subsequent tabs, only blank white cells require data entry"]
["Section A - Budget Summary"]
[null,null,"Federal","Cost Share","Total Costs","Cost Share %","Proposed Budget Period Dates"]
[null,"Budget Period 1",{"$f":"E12-D12","v":0},{"$f":"'j. Cost Share'!D17","v":0},{"$f":"B32","v":0},{"$f":"D12/E12","v":{"$error":"#DIV/0!"}},"Example!!! 01/01/2014 - 12/31/2014"]
[null,"Budget Period 2",{"$f":"E13-D13","v":0},{"$f":"'j. Cost Share'!E17","v":0},{"$f":"C32","v":0},{"$f":"D13/E13","v":{"$error":"#DIV/0!"}}]
[null,"Budget Period 3",{"$f":"E14-D14","v":0},{"$f":"'j. Cost Share'!F17","v":0},{"$f":"D32","v":0},{"$f":"D14/E14","v":{"$error":"#DIV/0!"}}]
[null,"Total",{"$f":"SUM(C12:C14)","v":0},{"$f":"SUM(D12:D14)","v":0},{"$f":"SUM(E12:E14)","v":0},{"$f":"D15/E15","v":{"$error":"#DIV/0!"}}]
["Section B - Budget Categories"]
["CATEGORY","Budget Period 1","Budget Period 2","Budget Period 3"," Total Costs","% of Project","Comments (as needed)"]
["a. Personnel",{"$f":"'a. Personnel'!E34","v":0},{"$f":"'a. Personnel'!H34","v":0},{"$f":"'a. Personnel'!K34","v":0},{"$f":"SUM(B18:D18)","v":0},{"$f":"E18/$E$32","v":{"$error":"#DIV/0!"}}]
["b. Fringe Benefits",{"$f":"'b. Fringe'!D13","v":0},{"$f":"'b. Fringe'!G13","v":0},{"$f":"'b. Fringe'!J13","v":0},0,{"$f":"E19/$E$32","v":{"$error":"#DIV/0!"}}]
["c. Travel",{"$f":"'c. Travel'!K14","v":0},{"$f":"'c. Travel'!K22","v":0},{"$f":"'c. Travel'!K30","v":0},0,{"$f":"E20/$E$32","v":{"$error":"#DIV/0!"}}]
["d. Equipment",{"$f":"'d. Equipment'!E14","v":0},{"$f":"'d. Equipment'!E22","v":0},{"$f":"'d. Equipment'!E30","v":0},0,{"$f":"E21/$E$32","v":{"$error":"#DIV/0!"}}]
["e. Supplies",{"$f":"'e. Supplies'!E15","v":0},{"$f":"'e. Supplies'!E25","v":0},{"$f":"'e. Supplies'!E35","v":0},0,{"$f":"E22/$E$32","v":{"$error":"#DIV/0!"}}]
["f. Contractual"]
["Sub-recipient",{"$f":"'f. Contractual'!D13","v":0},{"$f":"'f. Contractual'!E13","v":0},{"$f":"'f. Contractual'!F13","v":0},{"$f":"SUM(B24:D24)","v":0},{"$f":"E24/$E$32","v":{"$error":"#DIV/0!"}}]
["Vendor",{"$f":"'f. Contractual'!D22","v":0},{"$f":"'f. Contractual'!E22","v":0},{"$f":"'f. Contractual'!F22","v":0},{"$f":"SUM(B25:D25)","v":0},{"$error":"#DIV/0!"}]
["FFRDC",{"$f":"'f. Contractual'!D27","v":0},{"$f":"'f. Contractual'!E27","v":0},{"$f":"'f. Contractual'!F27","v":0},0,{"$error":"#DIV/0!"}]
["Total Contractual ",{"$f":"SUM(B24:B26)","v":0},{"$f":"SUM(C24:C26)","v":0},{"$f":"SUM(D24:D26)","v":0},0,{"$error":"#DIV/0!"}]
["g. Construction",{"$f":"'g. Construction'!C15","v":0},{"$f":"'g. Construction'!C22","v":0},{"$f":"'g. Construction'!C29","v":0},0,{"$error":"#DIV/0!"}]
["h. Other Direct Costs",{"$f":"'h. Other'!C14","v":0},{"$f":"'h. Other'!C22","v":0},{"$f":"'h. Other'!C30","v":0},{"$f":"SUM(B29:D29)","v":0},{"$error":"#DIV/0!"}]
["Total Direct Costs",{"$f":"B18+B19+B20+B21+B22+B27+B28+B29","v":0},{"$f":"C18+C19+C20+C21+C22+C27+C28+C29","v":0},{"$f":"D18+D19+D20+D21+D22+D27+D28+D29","v":0},{"$f":"E18+E19+E20+E21+E22+E27+E28+E29","v":0},{"$f":"F18+F19+F20+F21+F22+F27+F28+F29","v":{"$error":"#DIV/0!"}}]
["i. Indirect Charges",{"$f":"'i. Indirect'!B16","v":0},{"$f":"'i. Indirect'!C16","v":0},{"$f":"'i. Indirect'!D16","v":0},{"$f":"SUM(B31:D31)","v":0},{"$f":"E31/$E$32","v":{"$error":"#DIV/0!"}}]
["Total Costs",{"$f":"B30+B31","v":0},{"$f":"C30+C31","v":0},{"$f":"D30+D31","v":0},{"$f":"E30+E31","v":0},{"$f":"F30+F31","v":{"$error":"#DIV/0!"}}]
[]
["Additional Explanation (as needed):"]

{"sheet":"a. Personnel","index":1,"n_rows":36,"n_cols":14,"rows_kept":36,"cut":false,"hidden":false,"merged":[[1,0,1,13],[5,11,6,11],[0,11,0,13],[5,2,5,4],[5,5,5,7],[5,8,5,10],[0,0,0,1],[35,0,36,13],[5,1,6,1],[2,0,3,13],[34,0,34,3],[5,0,6,0],[5,13,6,13],[5,12,6,12]]}
["Detailed Budget Justification"]
["a. Personnel"]
["INSTRUCTIONS - PLEASE READ!!!\n1. List costs solely for employees of the entity completing this form.  All personnel costs for subrecipients and vendors must be included under f. Contractual.\n2. All personnel should be identified by position title and not employee name. Enter the amount of time (e.g., hours or % of time) and the base pay rate and the total direct personnel compensation will automatically calculate. Rate basis (e.g., actual salary, labor distribution report, state civil service rates, etc.) must also be identified.\n3. If loaded labor rates are utilized, a description of the costs the loaded rate is comprised of must be included in the Additional Explanation section below. DOE must review all components of the loaded labor rate for reasonableness and unallowable costs (e.g. fee or profit). \n4. If a position and hours are attributed to multiple employees (e.g. Technician working 4000 hours) the number of employees for that position title must be identified.  "]
[]
[]
["SOPO Task #","Position Title","Budget Period 1",null,null,"Budget Period 2",null,null,"Budget Period 3",null,null,"Project Total Hours","Project Total Dollars","Rate Basis"]
[null,null,"Time \n(Hrs)","Pay Rate\n($/Hr)","Total Budget Period 1","Time \n(Hrs)","Pay Rate\n($/Hr)","Total Budget Period 2","Time \n(Hrs)","Pay Rate\n($/Hr)","Total Budget Period 3"]
[1,"Sr. Engineer (EXAMPLE!!!)",2000,85,{"$f":"C8*D8","v":170000},200,50,{"$f":"F8*G8","v":10000},200,50,{"$f":"I8*J8","v":10000},{"$f":"C8+F8+I8","v":2400},{"$f":"E8+H8+K8","v":190000},"Actual Salary"]
[2,"Technicians (2)",4000,20,80000,0,0,0,0,0,0,{"$f":"C9+F9+I9","v":4000},{"$f":"E9+H9+K9","v":80000},"Actual Salary"]
[{"$nulls":4},0,null,null,0,null,null,0,{"$f":"SUM(C10+F10+I10)","v":0},{"$f":"SUM(E10+H10+K10)","v":0}]
[{"$nulls":4},0,null,null,0,null,null,0,{"$f":"SUM(C11+F11+I11)","v":0},{"$f":"SUM(E11+H11+K11)","v":0}]
[{"$nulls":4},0,null,null,0,null,null,0,0,0]
[{"$nulls":4},0,null,null,0,null,null,0,0,0]
[{"$nulls":4},0,null,null,0,null,null,0,0,0]
[{"$nulls":4},0,null,null,0,null,null,0,0,0]
[{"$nulls":4},0,null,null,0,null,null,0,0,0]
[{"$nulls":4},0,null,null,0,null,null,0,0,0]
[{"$nulls":4},0,null,null,0,null,null,0,0,0]
[{"$nulls":4},0,null,null,0,null,null,0,0,0]
[{"$nulls":4},0,null,null,0,null,null,0,0,0]
[{"$nulls":4},0,null,null,0,null,null,0,0,0]
[{"$nulls":4},0,null,null,0,null,null,0,0,0]
[{"$nulls":4},0,null,null,0,null,null,0,0,0]
[{"$nulls":4},0,null,null,0,null,null,0,0,0]
[{"$nulls":4},0,null,null,0,null,null,0,0,0]
[{"$nulls":4},0,null,null,0,null,null,0,0,0]
[{"$nulls":4},0,null,null,0,null,null,0,0,0]
[{"$nulls":4},0,null,null,0,null,null,0,0,0]
[{"$nulls":4},0,null,null,0,null,null,0,0,0]
[{"$nulls":4},0,null,null,0,null,null,0,0,0]
[{"$nulls":4},{"$f":"C31*D31","v":0},null,null,0,null,null,0,{"$f":"SUM(C31+F31+I31)","v":0},{"$f":"SUM(E31+H31+K31)","v":0}]
[{"$nulls":4},{"$f":"C32*D32","v":0},null,null,{"$f":"F32*G32","v":0},null,null,{"$f":"I32*J32","v":0},{"$f":"SUM(C32+F32+I32)","v":0},{"$f":"SUM(E32+H32+K32)","v":0}]
[{"$nulls":4},{"$f":"C33*D33","v":0},null,null,{"$f":"F33*G33","v":0},null,null,{"$f":"I33*J33","v":0},{"$f":"SUM(C33+F33+I33)","v":0},{"$f":"SUM(E33+H33+K33)","v":0}]
[null,"Total Personnel Costs",{"$f":"SUM(C10:C33)","v":0},null,{"$f":"SUM(E10:E33)","v":0},{"$f":"SUM(F10:F33)","v":0},null,{"$f":"SUM(H10:H33)","v":0},{"$f":"SUM(I10:I33)","v":0},null,{"$f":"SUM(K10:K33)","v":0},{"$f":"J34+G34+D34","v":0},{"$f":"K34+H34+E34","v":0}]
[]
["Additional Explanation (as needed):"]

{"sheet":"b. Fringe","index":2,"n_rows":21,"n_cols":11,"rows_kept":21,"cut":false,"hidden":false,"merged":[[0,0,0,9],[1,0,1,10],[19,0,19,10],[20,0,20,10],[2,0,2,10],[15,0,18,10],[14,0,14,10],[4,4,4,6],[4,7,4,9],[4,1,4,3]]}
["Detailed Budget Justification "]
["b. Fringe Benefits"]
["INSTRUCTIONS - PLEASE READ!!!\n1. Fill out the table below by position title. If all employees receive the same fringe benefits, you can show \"Total Personnel\" in the Labor Type column instead of listing out all position titles.   \n2. The rates and how they are applied should not be averaged to get one fringe cost percentage. Complex calculations should be described/provided in the Additional Explanation section below. \n3. The fringe benefit rates should be applied to all positions, regardless of whether those funds will be supported by Federal Share or Recipient Cost Share."]
[]
["Labor Type","Budget Period 1",null,null,"Budget Period 2",null,null,"Budget Period 3",null,null,"Total Project "]
[null,"Personnel Costs","Rate","Total","Personnel Costs","Rate","Total","Personnel Costs","Rate","Total"]
["EXAMPLE!!! Sr. Engineer",170000,0.2,{"$f":"B7*C7","v":34000},10000,0.2,{"$f":"E7*F7","v":2000},10000,0.2,{"$f":"H7*I7","v":2000},{"$f":"D7+G7+J7","v":38000}]
[null,null,null,{"$f":"C8*B8","v":0},null,null,0,null,null,0,{"$f":"SUM(D8+G8+J8)","v":0}]
[null,null,null,{"$f":"C9*B9","v":0},null,null,0,null,null,0]
[null,null,null,{"$f":"C10*B10","v":0},null,null,0,null,null,0,{"$f":"SUM(D10+G10+J10)","v":0}]
[null,null,null,{"$f":"C11*B11","v":0},null,null,0,null,null,0,{"$f":"SUM(D11+G11+J11)","v":0}]
[null,null,null,{"$f":"C12*B12","v":0},null,null,0,null,null,0,{"$f":"SUM(D12+G12+J12)","v":0}]
["Total:",{"$f":"SUM(B8:B12)","v":0},null,{"$f":"SUM(D8:D12)","v":0},{"$f":"SUM(E8:E12)","v":0},null,{"$f":"SUM(G8:G12)","v":0},{"$f":"SUM(H8:H12)","v":0},null,{"$f":"SUM(J8:J12)","v":0},{"$f":"SUM(D13+G13+J13)","v":0}]
[]
["A federally approved fringe benefit rate agreement, or a proposed rate supported and agreed upon by DOE for estimating purposes is required at the time of award negotiation if reimbursement for fringe benefits is requested.  Please check (X) one of the options below and provide the requested information if not previously submitted."]
["______ A fringe benefit rate has been negotiated with, or approved by, a federal government agency. A copy of the latest rate agreement is/was included with the project application.\n\n______ There is not a current federally approved rate agreement negotiated and available.*\n\n*When this option is checked, the entity preparing this form shall submit an indirect rate proposal in the format provided in the Sample Rate Proposal at http://www1.eere.energy.gov/financing/resources.html, or a format that provides the same level of information and which will support the rates being proposed for use in performance of the proposed project.  "]
[]
[]
[]
[]
["Additional Explanation (as necessary): Please use this box (or an attachment) to list the elements that comprise your fringe benefits and how they are applied to your base (e.g. Personnel) to arrive at your fringe benefit rate."]

{"sheet":"c. Travel","index":3,"n_rows":33,"n_cols":12,"rows_kept":33,"cut":false,"hidden":false,"merged":[[2,0,2,11],[32,0,33,11],[1,0,1,11],[0,0,0,1],[5,2,5,11],[14,2,14,11],[22,2,22,11]]}
["Detailed Budget Justification "]
["c. Travel"]
["INSTRUCTIONS - PLEASE READ!!!\n1.  Identify Foreign and Domestic Travel as separate items. Examples of Purpose of Travel are subrecipient site visits, DOE meetings, project mgmt. meetings, etc. Examples of Basis for Estimating Costs are past trips, travel quotes, GSA rates, etc.   \n2.  All listed travel must be necessary for performance of the Statement of Project Objectives.\n3. Federal travel regulations are contained within the applicable cost principles for all entity types. Travel costs should remain consistent with travel costs incurred by an organization during normal business operations as a result of the organizations written travel policy. In absence of a written travel policy, organizations must follow the regulations prescribed by the General Services Administration. "]
[]
["SOPO Task #","Purpose of Travel","Depart From","Destination","No. of Days","No. of Travelers","Lodging per Traveler","Flight per Traveler","Vehicle per Traveler","Per Diem Per Traveler","Cost per Trip","Basis for Estimating Costs"]
[null,"Domestic Travel","                                                             Budget Period 1"]
[1,"EXAMPLE!!!  Visit to PV manufacturer",null,null,2,2,250,500,100,160,{"$f":"SUM(G7:J7)*F7","v":2020},"Current GSA rates"]
[{"$nulls":10},{"$f":"SUM(G8:J8)*F8","v":0}]
[{"$nulls":10},{"$f":"SUM(G9:J9)*F9","v":0}]
[{"$nulls":10},0]
[{"$nulls":10},0]
[null,"International Travel"]
[{"$nulls":10},0]
[null,"Budget Period 1 Total",{"$nulls":8},{"$f":"SUM(K8:K13)","v":0}]
[null,"Domestic Travel","                                                             Budget Period 2"]
[{"$nulls":10},{"$f":"SUM(G16:J16)*F16","v":0}]
[{"$nulls":10},0]
[{"$nulls":10},0]
[{"$nulls":10},0]
[null,"International Travel"]
[{"$nulls":10},{"$f":"SUM(G21:J21)*F21","v":0}]
[null,"Budget Period 2 Total",{"$nulls":8},{"$f":"SUM(K16:K21)","v":0}]
[null,"Domestic Travel","                                                              Budget Period 3"]
[{"$nulls":10},{"$f":"SUM(G24:J24)*F24","v":0}]
[{"$nulls":10},0]
[{"$nulls":10},0]
[{"$nulls":10},0]
[null,"International Travel"]
[{"$nulls":10},{"$f":"SUM(G29:J29)*F29","v":0}]
[null,"Budget Period 3 Total",{"$nulls":8},{"$f":"SUM(K24:K29)","v":0}]
[null,"PROJECT TOTAL",{"$nulls":8},{"$f":"K14+K22+K30","v":0}]
[]
["Additional Explanation (as needed):"]

{"sheet":"d. Equipment","index":4,"n_rows":33,"n_cols":7,"rows_kept":33,"cut":false,"hidden":false,"merged":[[1,0,1,6],[0,0,0,1],[2,0,2,6],[32,0,33,6],[22,0,22,6],[14,0,14,6],[5,0,5,6]]}
["Detailed Budget Justification"]
["d. Equipment"]
["INSTRUCTIONS - PLEASE READ!!!\n1. Equipment is generally defined as an item with an acquisition cost greater than $5,000 and a useful life expectancy of more than one year. Please refer to the applicable Federal regulations in 10 CFR 600 for specific equipment definitions and treatment. \n2. List all equipment below, providing a basis of cost (e.g. vendor quotes, catalog prices, prior invoices, etc.). Briefly justify items as they apply to the Statement of Project Objectives. If it is existing equipment, provide logical support for the estimated value shown. \n3. During award negotiations, provide a vendor quote for all equipment items over $50,000 in price. If the vendor quote is not an exact price match, provide an explanation in the additional explanation section below. If a vendor quote is not practical, such as for a piece of equipment that is purpose-built, first of its kind, or otherwise not available off the shelf, provide a detailed engineering estimate for how the cost estimate was derived."]
[]
["SOPO Task #","Equipment Item","Qty","Unit Cost         ","Total Cost             ","Basis of Cost","Justification of need"]
["Budget Period 1"]
["3,4,5","EXAMPLE!!!   Thermal shock chamber",2,70000,{"$f":"C7*D7","v":140000},"Vendor Quote - Attached","Reliability testing of PV modules- Task 4.3"]
[{"$nulls":4},{"$f":"C8*D8","v":0}]
[{"$nulls":4},0]
[{"$nulls":4},0]
[{"$nulls":4},0]
[{"$nulls":4},0]
[{"$nulls":4},0]
[null,"Budget Period 1 Total",null,null,{"$f":"SUM(E8:E13)","v":0}]
["Budget Period 2"]
[{"$nulls":4},{"$f":"C16*D16","v":0}]
[{"$nulls":4},0]
[{"$nulls":4},0]
[{"$nulls":4},0]
[{"$nulls":4},0]
[{"$nulls":4},0]
[null,"Budget Period 2 Total",null,null,{"$f":"SUM(E16:E21)","v":0}]
["Budget Period 3"]
[{"$nulls":4},{"$f":"C24*D24","v":0}]
[{"$nulls":4},0]
[{"$nulls":4},0]
[{"$nulls":4},0]
[{"$nulls":4},0]
[{"$nulls":4},0]
[null,"Budget Period 3 Total",null,null,{"$f":"SUM(E24:E29)","v":0}]
[null,"PROJECT TOTAL",null,null,{"$f":"E14+E22+E30","v":0}]
[]
["Additional Explanation (as needed):"]

{"sheet":"e. Supplies","index":5,"n_rows":38,"n_cols":7,"rows_kept":38,"cut":false,"hidden":false,"merged":[[0,0,0,1],[2,0,2,6],[37,0,38,6],[5,0,5,6],[1,0,1,6],[15,0,15,6],[25,0,25,6]]}
["Detailed Budget Justification "]
["e. Supplies"]
["INSTRUCTIONS - PLEASE READ!!!\n1. Supplies are generally defined as an item with an acquisition cost of $5,000 or less and a useful life expectancy of less than one year.  Supplies are generally consumed during the project performance. Please refer to the applicable Federal regulations in 10 CFR 600 for specific supplies definitions and treatment. \n2. List all proposed supplies below, providing a bases of costs (e.g. vendor quotes, catalog prices, prior invoices, etc.). Briefly justify the need for the Supplies as they apply to the Statement of Project Objectives. Note that Supply items must be direct costs to the project at this budget category, and not duplicative of supply costs included in the indirect pool that is the basis of the indirect rate applied for this project.\n3. Multiple supply items valued at $5,000 or less used to assemble an equipment item with a value greater than $5,000 with a useful life of more than one year should be included on the equipment tab. If supply items and costs are ambiguous in nature, contact your DOE representative for proper categorization.  \n4. Add rows as needed. If rows are added, formulas/calculations may need to be adjusted by the preparer. "]
[]
["SOPO Task #","General Category of Supplies","Qty","Unit Cost         ","Total Cost             ","Basis of Cost","Justification of need"]
["Budget Period 1"]
["4,6","EXAMPLE!!!  Wireless DAS components",10,360,3600,"Catalog price","For Alpha prototype - Task 2.4"]
[{"$nulls":4},{"$f":"C8*D8","v":0}]
[{"$nulls":4},{"$f":"C9*D9","v":0}]
[{"$nulls":4},0]
[{"$nulls":4},0]
[{"$nulls":4},0]
[{"$nulls":4},0]
[{"$nulls":4},0]
[null,"Budget Period 1 Total",null,null,{"$f":"SUM(E8:E14)","v":0}]
["Budget Period 2"]
[{"$nulls":4},{"$f":"C17*D17","v":0}]
[{"$nulls":4},{"$f":"C18*D18","v":0}]
[{"$nulls":4},{"$f":"C19*D19","v":0}]
[{"$nulls":4},0]
[{"$nulls":4},0]
[{"$nulls":4},0]
[{"$nulls":4},0]
[{"$nulls":4},0]
[null,"Budget Period 2 Total",null,null,{"$f":"SUM(E17:E24)","v":0}]
["Budget Period 3"]
[{"$nulls":4},{"$f":"C27*D27","v":0}]
[{"$nulls":4},{"$f":"C28*D28","v":0}]
[{"$nulls":4},{"$f":"C29*D29","v":0}]
[{"$nulls":4},0]
[{"$nulls":4},0]
[{"$nulls":4},0]
[{"$nulls":4},0]
[{"$nulls":4},0]
[null,"Budget Period 3 Total",null,null,{"$f":"SUM(E27:E34)","v":0}]
[null,"PROJECT TOTAL",null,null,{"$f":"E35+E25+E15","v":0}]
[]
["Additional Explanation (as needed):"]

{"sheet":"f. Contractual","index":6,"n_rows":31,"n_cols":7,"rows_kept":31,"cut":false,"hidden":false,"merged":[[0,4,0,6],[0,0,0,1],[1,0,1,6],[2,0,2,6],[30,0,31,6]]}
["Detailed Budget Justification "]
["f. Contractual"]
["INSTRUCTIONS - PLEASE READ!!!\n1. The entity completing this form must provide all costs related to sub-recipients, vendors, and FFRDC partners in the applicable boxes below.  \n2. Sub-recipients (partners, sub-awardees): For each sub-recipient with total project costs of $250,000 or more, a separate detailed budget justification form must be submitted.  These sub-recipient forms may be completed by either the sub-recipients themselves or by the preparer of this form.  The budget totals on the sub-recipient's forms must match the sub-recipient entries below. A subrecipient is a legal entity to which a subaward is made, who has performance measured against whether the objectives of the Federal program are met, is responsible for programmatic decision making, must adhere to applicable Federal program compliance requirements, and uses the Federal funds to carry out a program of the organization. All characteristics may not be present and judgment must be used to determine subrecipient vs. vendor status. \n3. Vendors (including contractors): List all vendors and contractors supplying commercial supplies or services used to support the project. For each Vendor cost with total project costs of $250,000 or more, a Vendor quote must be provided. A vendor is a legal entity contracted to provide goods and services within normal business operations, provides similar goods or services to many different purchasers, operates in a competitive environment, provides goods or services that are ancillary to the operation of the Federal program, and is not subject to compliance requirements of the Federal program. All characteristics may not be present and judgment must be used to determine subrecipient vs. vendor status. \n4. Federal Funded Research and Development Centers (FFRDCs): FFRDCs must submit a signed Field Work Proposal during award application. The award recipient may allow the FFRDC to provide this information directly to DOE, however project costs must also be provided below."]
[]
["SOPO Task #","Sub-Recipient\nName/Organization","Purpose and Basis of Cost","Budget Period 1","Budget Period 2","Budget Period 3","Project Total"]
["2,4","EXAMPLE!!!  XYZ Corp.","Partner to develop optimal lens for Gen 2 product. Cost estimate based on personnel hours.",48000,32000,16000,{"$f":"SUM(D6:F6)","v":96000}]
[{"$nulls":6},{"$f":"SUM(D7:F7)","v":0}]
[{"$nulls":6},0]
[{"$nulls":6},0]
[{"$nulls":6},0]
[{"$nulls":6},0]
[{"$nulls":6},0]
[null,null,"Sub-total",{"$f":"SUM(D7:D12)","v":0},{"$f":"SUM(E7:E12)","v":0},{"$f":"SUM(F7:F12)","v":0},{"$f":"SUM(G7:G12)","v":0}]
[]
["SOPO Task #","Vendor \nName/Organization","Purpose and Basis of Cost","Budget Period 1","Budget Period 2","Budget Period 3","Project Total"]
[6,"EXAMPLE!!!  ABC Corp.","Vendor for developing robotics to perform lens inspection. Estimate provided by vendor.",32900,86500,null,{"$f":"SUM(D16:F16)","v":119400}]
[{"$nulls":6},0]
[{"$nulls":6},0]
[{"$nulls":6},0]
[{"$nulls":6},0]
[{"$nulls":6},0]
[null,null,"Sub-total",{"$f":"SUM(D17:D21)","v":0},{"$f":"SUM(E17:E21)","v":0},{"$f":"SUM(F17:F21)","v":0},{"$f":"SUM(G17:G21)","v":0}]
[]
["SOPO Task #","FFRDC\nName/Organization","Purpose and Basis of Cost","Budget Period 1","Budget Period 2","Budget Period 3","Project Total"]
[{"$nulls":6},{"$f":"SUM(D25:F25)","v":0}]
[{"$nulls":6},{"$f":"SUM(D26:F26)","v":0}]
[null,null,"Sub-total",{"$f":"SUM(D25:D26)","v":0},{"$f":"SUM(E25:E26)","v":0},{"$f":"SUM(F25:F26)","v":0},{"$f":"SUM(D27:F27)","v":0}]
[]
[null,"Total Contractual",null,{"$f":"D22+D27+D13","v":0},{"$f":"E22+E27+E13","v":0},{"$f":"F22+F27+F13","v":0},{"$f":"G22+G27+G13","v":0}]
[]
["Additional Explanation (as needed):"]

{"sheet":"g. Construction","index":7,"n_rows":32,"n_cols":5,"rows_kept":32,"cut":false,"hidden":false,"merged":[[0,0,0,1],[1,0,1,4],[2,0,2,4],[4,0,4,4],[31,0,32,4],[7,0,7,4],[15,0,15,4],[22,0,22,4]]}
["Detailed Budget Justification"]
["g. Construction"]
["PLEASE READ!!!\n1. Construction, for the purpose of budgeting, is defined as all types of work done on a particular building, including erecting, altering, or remodeling. Construction conducted by the award recipient is entered on this page. Any construction work that is performed by a vendor or subrecipient should be entered under f. Contractual.\n2. List all proposed construction below, providing a basis of cost such as engineering estimates, prior construction, etc., and briefly justify its need as it applies to the Statement of Project Objectives."]
[]
["Overall description of construction activities: Example Only!!! - Build wind turbine platform"]
[]
["SOPO Task #","General Description","Cost             ","Basis of Cost","Justification of need"]
["Budget Period 1"]
[3,"EXAMPLE ONLY!!! Three days of excavation for platform site",28000,"Engineering estimate","Site must be prepared for construction of platform."]
[]
[]
[]
[]
[]
[null,"Budget Period 1 Total",{"$f":"SUM(C10:C14)","v":0}]
["Budget Period 2"]
[]
[]
[]
[]
[]
[null,"Budget Period 2 Total",{"$f":"SUM(C17:C21)","v":0}]
["Budget Period 3"]
[]
[]
[]
[]
[]
[null,"Budget Period 3 Total",{"$f":"SUM(C24:C28)","v":0}]
[null,"PROJECT TOTAL",{"$f":"-C29+C22+C15","v":0}]
[]
["Additional Explanation (as needed):"]

{"sheet":"h. Other","index":8,"n_rows":33,"n_cols":5,"rows_kept":33,"cut":false,"hidden":false,"merged":[[0,0,0,1],[1,0,1,4],[32,0,33,4],[2,0,2,4],[5,0,5,4],[22,1,22,4],[14,1,14,4]]}
["Detailed Budget Justification"]
["h. Other Direct Costs"]
["INSTRUCTIONS - PLEASE READ!!!\n1. Other direct costs are direct cost items required for the project which do not fit clearly into other categories.  These direct costs must not be included in the indirect costs (for which the indirect rate is being applied for this project).  Examples are: tuition, printing costs, etc. which can be directly charged to the project and are not duplicated in indirect costs (overhead costs).\n2. Basis of cost are items such as vendor quotes, prior purchases of similar or like items, published price list, etc."]
[]
["SOPO Task #","General Description and SOPO Task #"," Cost             ","Basis of Cost","Justification of need"]
["Budget Period 1"]
[5,"EXAMPLE!!!  Grad student tuition - tasks 1-3",16000,"Established UCD costs","Support of graduate students working on project "]
[]
[]
[]
[]
[]
[]
[null,"Budget Period 1 Total",{"$f":"SUM(C8:C13)","v":0}]
[null,"Budget Period 2"]
[]
[]
[]
[]
[]
[]
[null,"Budget Period 2 Total",{"$f":"SUM(C16:C21)","v":0}]
[null,"Budget Period 3"]
[]
[]
[]
[]
[]
[]
[null,"Budget Period 3 Total",{"$f":"SUM(C24:C29)","v":0}]
[null,"PROJECT TOTAL",{"$f":"C30+C22+C14","v":0}]
[]
["Additional Explanation (as needed):"]

{"sheet":"i. Indirect","index":9,"n_rows":23,"n_cols":6,"rows_kept":23,"cut":false,"hidden":false,"merged":[[2,0,2,6],[4,5,4,6],[5,5,5,6],[0,5,0,6],[22,0,24,6],[0,0,0,3],[7,5,7,6],[8,5,8,6],[9,5,9,6],[11,5,11,6],[10,5,10,6],[20,0,20,6],[17,0,17,6],[12,5,12,6],[6,5,6,6],[18,0,18,6],[15,5,15,6],[13,5,13,6],[14,5,14,6],[1,0,1,6]]}
["Detailed Budget Justification "]
["i. Indirect Costs"]
["INSTRUCTIONS - PLEASE READ!!!\n1. Fill out the table below to indicate how your indirect costs are calculated. Use the box below to provide additional explanation regarding your indirect rate calculation.  \n2. The rates and how they are applied should not be averaged to get one indirect cost percentage. Complex calculations or rates that do not do not correspond to the below categories should be described/provided in the Additional Explanation section below. If questions exist, consult with your DOE contact before filling out this section. \n3. The indirect rate should be applied to both the Federal Share and Recipient Cost Share."]
[]
[null,"Budget Period 1","Budget Period 2","Budget Period 3","Total","Explanation of BASE "]
["Provide ONLY Applicable Rates:"]
["Overhead Rate",0,0,0]
["General & Administrative (G&A)",0,0,0]
["FCCM Rate, if applicable",0,0,0]
["OTHER Indirect Rate",0,0,0]
["Indirect Costs (As Applicable):"]
["Overhead Costs",0,0,0,{"$f":"SUM(B12:D12)","v":0}]
["G&A Costs",0,0,0,{"$f":"SUM(B13:D13)","v":0}]
["FCCM Costs, if applicable",0,0,0,{"$f":"SUM(B14:D14)","v":0}]
[" OTHER Indirect Costs",0,0,0,{"$f":"SUM(B15:D15)","v":0}]
["Total indirect costs requested:",{"$f":"SUM(B12:B15)","v":0},{"$f":"SUM(C12:C15)","v":0},{"$f":"SUM(D12:D15)","v":0},{"$f":"SUM(E12:E15)","v":0}]
[]
["A federally approved indirect rate agreement, or rate proposed (supported and agreed upon by DOE for estimating purposes) is required if reimbursement of indirect costs is requested.  Please check (X) one of the options below and provide the requested information if it has not already been provided as requested, or has changed.  "]
["______ An  indirect rate has been approved or negotiated with a federal government agency.  A  copy of the latest rate agreement is included with this application, and will be provided electronically to the Contracting Officer for this project.\n\n______ There is not a current, federally approved rate agreement negotiated and available*.  \n\n*When this option is checked, the entity preparing this form shall submit an indirect rate proposal in the format provided in the Sample Rate Proposal at http://www1.eere.energy.gov/financing/resources.html, or a format that provides the same level of information and which will support the rates being proposed for use in performance of the proposed project.  "]
[]
["You must provide an explanation (below or in a separate attachment) and show how your indirect cost rate was applied to this budget in order to come up with the indirect costs shown."]
[]
["Additional Explanation (as needed): *IMPORTANT:  Please use this box (or an attachment) to further explain how your total indirect costs were calculated.  If the total indirect costs are a cumulative amount of more than one calculation or rate application, the explanation and calculations should identify all rates used, along with the base they were applied to (and how the base was derived), and a total for each (along with grand total).  "]

{"sheet":"j. Cost Share","index":10,"n_rows":21,"n_cols":7,"rows_kept":21,"cut":false,"hidden":false,"merged":[[20,0,21,6],[1,0,1,6],[0,0,0,2],[2,0,2,6],[17,4,17,5],[18,3,18,5],[18,0,18,1],[0,4,0,6]]}
["Detailed Budget Justification"]
["Cost Share"]
["PLEASE READ!!!\n1. A detailed presentation of the cash or cash value of all cost share proposed must be provided in the table below. Identify the source organization & amount of each cost share item proposed in the award. All items in the chart below should also be identified within the applicable cost category tabs a. through i. in the Cost Share Item section. \n2. Cash Cost Share - encompasses all contributions to the project made by the recipient, subrecipeint, or vendor for costs incurred and paid for during the project. This includes when an organization pays for personnel, supplies, equipment, etc. for their own company with organizational resources. If the item or service is reimbursed for, it is cash cost share. All cost share items must be necessary to the performance of the project. \n3. In Kind Cost Share - encompasses all contributions to the project made by the recipient, subrecipient, or vendor that do not involve a payment or reimbursement and represent donated items or services. In Kind cost share items include volunteer personnel hours, donated existing equipment, donated existing supplies, etc. The cash value and calculations thereof for all In Kind cost share items must be justified and explained in the Cost Share Item section below. All cost share items must be necessary to the performance of the project. If questions exist, consult your DOE contact before filling out In Kind cost share in this section.\n4. Funds from other Federal sources MAY NOT be counted as cost share. This prohibition includes FFRDC sub-recipients. Non-Federal sources include any source not originally derived from Federal funds. Cost sharing commitment letters from subrecipients and vendors must be provided with the original application.\n5. Fee or profit, including foregone fee or profit, are not allowable as project costs (including cost share) under any resulting award. The project may only incur those costs that are allowable and allocable to the project (including cost share) as determined in accordance with the applicable cost principles prescribed in 10 CFR 600.127, 10 CFR 600.222 or 10 CFR 600.317."]
[]
["Organization/Source                 ","Type (Cash or In Kind) ","Cost Share Item ","Budget Period 1","Budget Period 2","Budget Period 3","Total Project Cost Share"]
["ABC Company\nEXAMPLE!!!","Cash","Project partner ABC Company will provide 20 PV modules for product development at the price of $680 per module",13600,null,null,{"$f":"SUM(D6:F6)","v":13600}]
[{"$nulls":6},0]
[{"$nulls":6},0]
[{"$nulls":6},0]
[{"$nulls":6},0]
[{"$nulls":6},0]
[{"$nulls":6},0]
[{"$nulls":6},0]
[{"$nulls":6},0]
[{"$nulls":6},0]
[{"$nulls":6},0]
[null,null,"Totals",{"$f":"SUM(D7:D16)","v":0},{"$f":"SUM(E6:E16)","v":0},{"$f":"SUM(F6:F16)","v":0},{"$f":"SUM(G7:G16)","v":0}]
[]
["Total Project Cost:  ",null,{"$f":"'Instructions and Summary'!E32","v":0},"Cost Share Percent of Award:",null,null,{"$f":"G17/C19","v":{"$error":"#DIV/0!"}}]
[]
["Additional Explanation (as needed):"]

{"sheet":"SF-424A","index":11,"n_rows":63,"n_cols":8,"rows_kept":63,"cut":false,"hidden":true,"merged":[[62,2,62,6],[64,0,101,7],[103,0,144,7],[0,2,0,3],[0,5,0,6],[58,0,58,7],[59,0,59,7],[60,2,60,6],[61,0,61,1],[55,0,55,3],[55,4,55,7],[56,2,56,7],[57,0,57,7],[53,0,53,2],[53,3,53,7],[54,2,54,3],[54,5,54,7],[49,1,49,3],[50,1,50,3],[51,1,51,3],[52,1,52,3],[45,4,45,7],[46,0,47,3],[46,4,46,7],[48,1,48,3],[42,1,42,2],[43,1,43,2],[44,1,44,2],[45,0,45,3],[39,1,39,3],[40,0,40,2],[40,3,40,7],[41,0,41,2],[35,1,35,3],[36,1,36,3],[37,1,37,3],[38,1,38,3],[31,0,31,7],[33,0,33,2],[33,3,33,7],[34,1,34,3],[27,1,27,2],[30,0,30,1],[30,2,30,5],[30,6,30,7],[23,1,23,2],[24,1,24,2],[25,1,25,2],[26,0,26,7],[19,1,19,2],[20,1,20,2],[21,1,21,2],[22,1,22,2],[15,1,15,2],[16,1,16,2],[17,1,17,2],[18,1,18,2],[12,0,12,1],[12,2,12,7],[13,0,14,0],[13,1,14,2],[13,3,13,6],[13,7,14,7],[4,3,4,4],[0,0,0,1],[1,0,1,7],[2,0,2,7],[3,0,3,1],[3,2,3,7],[4,5,4,7],[4,0,5,0],[4,1,5,1],[4,2,5,2]]}
["Applicant Name:",null,null,null,"Award Number:"]
["Budget Information - Non Construction Programs"]
["OMB Approval No. 0348-0044"]
["Section A - Budget Summary"]
[null,"Grant Program Function or Activity","Catalog of Federal Domestic Assistance Number","Estimated Unobligated Funds",null,"New or Revised Budget"]
[null,null,null,"Federal ","Non-Federal ","Federal","Non-Federal","Total"]
[null,"(a)","(b)","(c )","(d)","(e)","(f)","(g)"]
["1.","Budget period 1",null,null,null,{"$f":"D26-G8","v":0},{"$f":"'j. Cost Share'!D17","v":0},{"$f":"SUM(D8:G8)","v":0}]
["2.","Budget period 2",null,null,null,{"$f":"E26-G9","v":0},{"$f":"'j. Cost Share'!E17","v":0},{"$f":"SUM(D9:G9)","v":0}]
["3.","Budget period 3",null,null,null,{"$f":"F26-'j. Cost Share'!F17","v":0},{"$f":"'j. Cost Share'!F17","v":0},{"$f":"SUM(D10:G10)","v":0}]
["4.",{"$nulls":6},{"$f":"SUM(D11:G11)","v":0}]
["5.","Totals",null,{"$f":"SUM(D8:D11)","v":0},{"$f":"SUM(E8:E11)","v":0},{"$f":"SUM(F8:F11)","v":0},{"$f":"SUM(G8:G11)","v":0},{"$f":"SUM(H8:H11)","v":0}]
["Section B - Budget Categories"]
["6.","Object Class Categories",null,"Grant Program, Function or Activity",null,null,null,"Total (5)"]
[null,null,null,"Budget period 1","Budget period 2","Budget period 3","(4)"]
[null,"a.  Personnel",null,{"$f":"'Instructions and Summary'!B18","v":0},{"$f":"'Instructions and Summary'!C18","v":0},{"$f":"'Instructions and Summary'!D18","v":0},null,{"$f":"SUM(D16:G16)","v":0}]
[null,"b.  Fringe Benefits",null,{"$f":"'Instructions and Summary'!B19","v":0},{"$f":"'Instructions and Summary'!C19","v":0},{"$f":"'Instructions and Summary'!D19","v":0},null,0]
[null,"c.  Travel",null,{"$f":"'Instructions and Summary'!B20","v":0},{"$f":"'Instructions and Summary'!C20","v":0},{"$f":"'Instructions and Summary'!D20","v":0},null,0]
[null,"d.  Equipment",null,{"$f":"'Instructions and Summary'!B21","v":0},{"$f":"'Instructions and Summary'!C21","v":0},{"$f":"'Instructions and Summary'!D21","v":0},null,0]
[null,"e.  Supplies",null,{"$f":"'Instructions and Summary'!B22","v":0},{"$f":"'Instructions and Summary'!C22","v":0},{"$f":"'Instructions and Summary'!D22","v":0},null,0]
[null,"f.  Contractual",null,{"$f":"'Instructions and Summary'!B27","v":0},{"$f":"'Instructions and Summary'!C27","v":0},{"$f":"'Instructions and Summary'!D27","v":0},null,0]
[null,"g.  Construction",null,{"$f":"'Instructions and Summary'!B28","v":0},{"$f":"'Instructions and Summary'!C28","v":0},{"$f":"'Instructions and Summary'!D28","v":0},null,0]
[null,"h.  Other",null,{"$f":"'Instructions and Summary'!B29","v":0},{"$f":"'Instructions and Summary'!C29","v":0},{"$f":"'Instructions and Summary'!D29","v":0},null,0]
[null,"i.  Total Direct Charges (sum of 6a-6h)",null,{"$f":"SUM(D16:D23)","v":0},{"$f":"SUM(E16:E23)","v":0},{"$f":"SUM(F16:F23)","v":0},{"$f":"SUM(G16:G23)","v":0},0]
[null,"j.  Indirect Charges",null,{"$f":"'Instructions and Summary'!B31","v":0},{"$f":"'Instructions and Summary'!C31","v":0},{"$f":"'Instructions and Summary'!D31","v":0},null,0]
[null,"k.  Totals (sum of 6i-6j)",null,{"$f":"SUM(D24:D25)","v":0},{"$f":"SUM(E24:E25)","v":0},{"$f":"SUM(F24:F25)","v":0},{"$f":"SUM(G24:G25)","v":0},{"$f":"SUM(H24:H25)","v":0}]
[]
["7.","Program Income",{"$nulls":5},{"$f":"SUM(D28:G28)","v":0}]
[]
[{"$nulls":7},"SF-424A (Rev. 4-92) "]
["Previous Edition Usable",{"$nulls":5},"Prescribed by OMB Circular A-102"]
["Authorized for Local Reproduction"]
[]
["Section C - Non-Federal Resources"]
[null,"(a) Grant Program",null,null,"(b) Applicant","(c ) State","(d) Other Sources","(e) Totals"]
["8.","Budget period 1",{"$nulls":5},{"$f":"SUM(E36:G36)","v":0}]
["9.","Budget period 2",{"$nulls":5},{"$f":"SUM(E37:G37)","v":0}]
["10.","Budget period 3",{"$nulls":5},{"$f":"SUM(E38:G38)","v":0}]
["11.",{"$nulls":6},{"$f":"SUM(E39:G39)","v":0}]
["12.","Total (sum of lines 8 - 11)",null,null,{"$f":"SUM(E36:E39)","v":0},{"$f":"SUM(F36:F39)","v":0},{"$f":"SUM(G36:G39)","v":0},{"$f":"SUM(H36:H39)","v":0}]
["Section D - Forecasted Cash Needs"]
[null,null,null,"Total for 1st Year","1st Quarter","2nd Quarter","3rd Quarter","4th quarter"]
["13.","Federal",null,{"$f":"SUM(E43:H43)","v":0}]
["14.","Non-Federal",null,{"$f":"SUM(E44:H44)","v":0}]
["15.","Total (sum of lines 13 and 14)",null,{"$f":"SUM(D43:D44)","v":0},{"$f":"SUM(E43:E44)","v":0},{"$f":"SUM(F43:F44)","v":0},{"$f":"SUM(G43:G44)","v":0},{"$f":"SUM(H43:H44)","v":0}]
["Section E - Budget Estimates of Federal Funds Needed for Balance of the Project"]
["(a) Grant Program",null,null,null,"Future Funding Periods (Years)"]
[{"$nulls":4},"Budget period 1","Budget period 2","Budget period 3"]
["16."]
["17."]
["18."]
["19."]
["20.","Total (sum of lines 16-19)",null,null,{"$f":"SUM(E49:E52)","v":0},{"$f":"SUM(F49:F52)","v":0},{"$f":"SUM(G49:G52)","v":0},{"$f":"SUM(H49:H52)","v":0}]
["Section F - Other Budget Information"]
["21. Direct Charges",null,null,null,"22. Indirect Charges"]
[]
["23.  Remarks"]
[]
[]
[]
[{"$nulls":7},"SF-424A (Rev. 4-92) "]
["Previous Edition Usable",null,"              ",{"$nulls":4},"Prescribed by OMB Circular A-102"]
[null,null,"Authorized for Local Reproduction"]

{"sheet":"k. Invoice Summary","index":12,"n_rows":29,"n_cols":16,"rows_kept":29,"cut":false,"hidden":false,"merged":[[6,15,7,15],[2,0,2,15],[3,0,3,15],[28,0,29,15],[1,0,1,15],[6,13,7,13],[6,14,7,14]]}
["Detailed Budget Justification "]
["Invoice Summary"]
["This section is only to be completed if using the form to submit invoices for approval and may be otherwise disregarded"]
["INSTRUCTIONS - PLEASE READ!!!\n1. Enter total invoice costs for each approved invoice as well as the current proposed invoice in the columns below.  \n2. Include both Federal (DOE), and Non-Federal (cost share) portions.\n3. Add columns as needed. If columns are added, formulas/calculations may need to be adjusted by the preparer. "]
["Current Budget Period:"]
[]
[null,"Invoice #","Invoice 2","Invoice 3","Invoice 4","Invoice 5","Invoice 6","Invoice 7","Invoice 8","Invoice 9","Invoice 10","Invoice 11","Invoice 12"," Total Costs To Date","% of Project","Total Approved Budget"]
["CATEGORY","(Invoice Period)","(Invoice Period)","(Invoice Period)","(Invoice Period)","(Invoice Period)","(Invoice Period)","(Invoice Period)","(Invoice Period)","(Invoice Period)","(Invoice Period)","(Invoice Period)","(Invoice Period)"]
["a. Personnel",{"$nulls":12},{"$f":"SUM(B9:M9)","v":0},{"$f":"N9/$N$23","v":{"$error":"#DIV/0!"}}]
["b. Fringe Benefits",{"$nulls":12},{"$f":"SUM(B10:M10)","v":0},{"$f":"N10/$N$23","v":{"$error":"#DIV/0!"}}]
["c. Travel",{"$nulls":12},{"$f":"SUM(B11:M11)","v":0},{"$f":"N11/$N$23","v":{"$error":"#DIV/0!"}}]
["d. Equipment",{"$nulls":12},{"$f":"SUM(B12:M12)","v":0},{"$f":"N12/$N$23","v":{"$error":"#DIV/0!"}}]
["e. Supplies",{"$nulls":12},{"$f":"SUM(B13:M13)","v":0},{"$f":"N13/$N$23","v":{"$error":"#DIV/0!"}}]
["f. Contractual",{"$nulls":8},"`"]
["Sub-recipient",{"$nulls":12},{"$f":"SUM(B15:J15)","v":0},{"$f":"N15/$N$23","v":{"$error":"#DIV/0!"}}]
["Vendor",{"$nulls":12},0,{"$error":"#DIV/0!"}]
["FFRDC",{"$nulls":12},0,{"$error":"#DIV/0!"}]
["Total Contractual ",{"$nulls":12},0,{"$error":"#DIV/0!"}]
["g. Construction",{"$nulls":12},0,{"$error":"#DIV/0!"}]
["h. Other Direct Costs",{"$nulls":12},0,{"$error":"#DIV/0!"}]
["Total Direct Costs",{"$nulls":12},0,{"$f":"O9+O10+O11+O12+O13+O18+O19+O20","v":{"$error":"#DIV/0!"}}]
["i. Indirect Charges",{"$nulls":12},0,{"$f":"N22/$N$23","v":{"$error":"#DIV/0!"}}]
["Total Costs",{"$f":"B21+B22","v":0},{"$f":"C21+C22","v":0},{"$f":"D21+D22","v":0},{"$f":"E21+E22","v":0},{"$f":"F22+F22","v":0},{"$f":"G22+G22","v":0},{"$f":"H22+H22","v":0},{"$f":"I22+I22","v":0},{"$f":"J21+J22","v":0},0,0,0,0,{"$error":"#DIV/0!"},{"$f":"P21+P22","v":0}]
[]
["Total Federal ",{"$nulls":13},{"$f":"N25/N27","v":{"$error":"#DIV/0!"}}]
["Total Cost Share",{"$nulls":13},{"$f":"N26/N27","v":{"$error":"#DIV/0!"}}]
["Total Costs",{"$f":"B25+B26","v":0},0,0,0,0,0,0,0,0,0,0,0,0,{"$error":"#DIV/0!"},{"$f":"P25+P26","v":0}]
[]
["Additional Explanation (as needed):"]

{"sheet":"SF424A","index":13,"n_rows":63,"n_cols":8,"rows_kept":63,"cut":false,"hidden":false,"merged":[[44,1,44,2],[51,1,51,3],[52,1,52,3],[49,1,49,3],[50,1,50,3],[35,1,35,3],[30,6,30,7],[30,2,30,5],[48,1,48,3],[13,0,14,0],[19,1,19,2],[30,0,30,1],[26,0,26,7],[24,1,24,2],[25,1,25,2],[27,1,27,2],[16,1,16,2],[17,1,17,2],[46,4,46,7],[39,1,39,3],[43,1,43,2],[0,0,0,1],[1,0,1,7],[2,0,2,7],[4,5,4,7],[3,0,3,1],[3,2,3,7],[31,0,31,7],[58,0,58,7],[12,0,12,1],[12,2,12,7],[4,2,5,2],[4,1,5,1],[4,3,4,4],[22,1,22,2],[15,1,15,2],[18,1,18,2],[36,1,36,3],[37,1,37,3],[38,1,38,3],[34,1,34,3],[33,0,33,2],[33,3,33,7],[4,0,5,0],[13,7,14,7],[20,1,20,2],[21,1,21,2],[23,1,23,2],[13,3,13,6],[13,1,14,2],[103,0,144,7],[60,2,60,6],[61,0,61,1],[46,0,47,3],[40,3,40,7],[40,0,40,2],[42,1,42,2],[41,0,41,2],[45,4,45,7],[45,0,45,3],[54,2,54,3],[62,2,62,6],[59,0,59,7],[56,2,56,7],[53,0,53,2],[53,3,53,7],[55,0,55,3],[54,5,54,7],[55,4,55,7],[57,0,57,7],[64,0,101,7]]}
["Applicant Name:",null,null,null,"Award Number:"]
["Budget Information - Non Construction Programs"]
["OMB Approval No. 0348-0044"]
["Section A - Budget Summary"]
[null,"Grant Program Function or Activity","Catalog of Federal Domestic Assistance Number","Estimated Unobligated Funds",null,"New or Revised Budget"]
[null,null,null,"Federal ","Non-Federal ","Federal","Non-Federal","Total"]
[null,"(a)","(b)","(c )","(d)","(e)","(f)","(g)"]
["1.",{"$nulls":6},{"$f":"SUM(D8:G8)","v":0}]
["2.",{"$nulls":6},{"$f":"SUM(D9:G9)","v":0}]
["3.",{"$nulls":6},{"$f":"SUM(D10:G10)","v":0}]
["4.",{"$nulls":6},{"$f":"SUM(D11:G11)","v":0}]
["5.","Totals",null,{"$f":"SUM(D8:D11)","v":0},{"$f":"SUM(E8:E11)","v":0},{"$f":"SUM(F8:F11)","v":0},{"$f":"SUM(G8:G11)","v":0},{"$f":"SUM(H8:H11)","v":0}]
["Section B - Budget Categories"]
["6.","Object Class Categories",null,"Grant Program, Function or Activity",null,null,null,"Total (5)"]
[null,null,null,"(1)","(2)","(3)","(4)"]
[null,"a.  Personnel",{"$nulls":5},{"$f":"SUM(D16:G16)","v":0}]
[null,"b.  Fringe Benefits",{"$nulls":5},0]
[null,"c.  Travel",{"$nulls":5},0]
[null,"d.  Equipment",{"$nulls":5},0]
[null,"e.  Supplies",{"$nulls":5},0]
[null,"f.  Contractual",{"$nulls":5},0]
[null,"g.  Construction",{"$nulls":5},0]
[null,"h.  Other",{"$nulls":5},0]
[null,"i.  Total Direct Charges (sum of 6a-6h)",null,{"$f":"SUM(D16:D23)","v":0},{"$f":"SUM(E16:E23)","v":0},{"$f":"SUM(F16:F23)","v":0},{"$f":"SUM(G16:G23)","v":0},0]
[null,"j.  Indirect Charges",{"$nulls":5},0]
[null,"k.  Totals (sum of 6i-6j)",null,{"$f":"SUM(D24:D25)","v":0},{"$f":"SUM(E24:E25)","v":0},{"$f":"SUM(F24:F25)","v":0},{"$f":"SUM(G24:G25)","v":0},{"$f":"SUM(H24:H25)","v":0}]
[]
["7.","Program Income",{"$nulls":5},{"$f":"SUM(D28:G28)","v":0}]
[]
[{"$nulls":7},"SF-424A (Rev. 4-92) "]
["Previous Edition Usable",{"$nulls":5},"Prescribed by OMB Circular A-102"]
["Authorized for Local Reproduction"]
[]
["Section C - Non-Federal Resources"]
[null,"(a) Grant Program",null,null,"(b) Applicant","(c ) State","(d) Other Sources","(e) Totals"]
["8.",{"$nulls":6},{"$f":"SUM(E36:G36)","v":0}]
["9.",{"$nulls":6},{"$f":"SUM(E37:G37)","v":0}]
["10.",{"$nulls":6},{"$f":"SUM(E38:G38)","v":0}]
["11.",{"$nulls":6},{"$f":"SUM(E39:G39)","v":0}]
["12.","Total (sum of lines 8 - 11)",null,null,{"$f":"SUM(E36:E39)","v":0},{"$f":"SUM(F36:F39)","v":0},{"$f":"SUM(G36:G39)","v":0},{"$f":"SUM(H36:H39)","v":0}]
["Section D - Forecasted Cash Needs"]
[null,null,null,"Total for 1st Year","1st Quarter","2nd Quarter","3rd Quarter","4th quarter"]
["13.","Federal",null,{"$f":"SUM(E43:H43)","v":0}]
["14.","Non-Federal",null,{"$f":"SUM(E44:H44)","v":0}]
["15.","Total (sum of lines 13 and 14)",null,{"$f":"SUM(D43:D44)","v":0},{"$f":"SUM(E43:E44)","v":0},{"$f":"SUM(F43:F44)","v":0},{"$f":"SUM(G43:G44)","v":0},{"$f":"SUM(H43:H44)","v":0}]
["Section E - Budget Estimates of Federal Funds Needed for Balance of the Project"]
["(a) Grant Program",null,null,null,"Future Funding Periods (Years)"]
[{"$nulls":4},"(b) First","(c ) Second","(d) Third","(e) Fourth"]
["16."]
["17."]
["18."]
["19."]
["20.","Total (sum of lines 16-19)",null,null,{"$f":"SUM(E49:E52)","v":0},{"$f":"SUM(F49:F52)","v":0},{"$f":"SUM(G49:G52)","v":0},{"$f":"SUM(H49:H52)","v":0}]
["Section F - Other Budget Information"]
["21. Direct Charges",null,null,null,"22. Indirect Charges"]
[]
["23.  Remarks"]
[]
[]
[]
[{"$nulls":7},"SF-424A (Rev. 4-92) "]
["Previous Edition Usable",null,"              ",{"$nulls":4},"Prescribed by OMB Circular A-102"]
[null,null,"Authorized for Local Reproduction"]